BEGIN:VCALENDAR
VERSION:2.0
PRODID:-//THE CHARLES COUNTY FAIR - ECPv6.15.20//NONSGML v1.0//EN
CALSCALE:GREGORIAN
METHOD:PUBLISH
X-WR-CALNAME:THE CHARLES COUNTY FAIR
X-ORIGINAL-URL:https://charlescountyfair.com
X-WR-CALDESC:Events for THE CHARLES COUNTY FAIR
REFRESH-INTERVAL;VALUE=DURATION:PT1H
X-Robots-Tag:noindex
X-PUBLISHED-TTL:PT1H
BEGIN:VTIMEZONE
TZID:America/New_York
BEGIN:DAYLIGHT
TZOFFSETFROM:-0500
TZOFFSETTO:-0400
TZNAME:EDT
DTSTART:20230312T070000
END:DAYLIGHT
BEGIN:STANDARD
TZOFFSETFROM:-0400
TZOFFSETTO:-0500
TZNAME:EST
DTSTART:20231105T060000
END:STANDARD
BEGIN:DAYLIGHT
TZOFFSETFROM:-0500
TZOFFSETTO:-0400
TZNAME:EDT
DTSTART:20240310T070000
END:DAYLIGHT
BEGIN:STANDARD
TZOFFSETFROM:-0400
TZOFFSETTO:-0500
TZNAME:EST
DTSTART:20241103T060000
END:STANDARD
BEGIN:DAYLIGHT
TZOFFSETFROM:-0500
TZOFFSETTO:-0400
TZNAME:EDT
DTSTART:20250309T070000
END:DAYLIGHT
BEGIN:STANDARD
TZOFFSETFROM:-0400
TZOFFSETTO:-0500
TZNAME:EST
DTSTART:20251102T060000
END:STANDARD
END:VTIMEZONE
BEGIN:VEVENT
DTSTART;TZID=America/New_York:20240803T110000
DTEND;TZID=America/New_York:20240803T200000
DTSTAMP:20260420T044738
CREATED:20240408T163543Z
LAST-MODIFIED:20240408T163543Z
UID:1786-1722682800-1722715200@charlescountyfair.com
SUMMARY:Triofest Wine\, Jerk and Curry Festival
DESCRIPTION:
URL:https://charlescountyfair.com/event/triofest-wine-jerk-and-curry-festival/
LOCATION:Charles County Fairgrounds\, 8440 Fairgrounds Road\, La Plata\, MD\, 20646\, United States
END:VEVENT
BEGIN:VEVENT
DTSTART;TZID=America/New_York:20240810T090000
DTEND;TZID=America/New_York:20240810T200000
DTSTAMP:20260420T044738
CREATED:20240701T090018Z
LAST-MODIFIED:20240701T090018Z
UID:1915-1723280400-1723320000@charlescountyfair.com
SUMMARY:301 Roller Derby Tournament
DESCRIPTION:The 301 Derby Dames are hosting the inaugural 301 Invitational Tournament. This tournament will showcase 5 teams\, playing head to head in sanctioned (for rankings) gameplay. The teams for this year are:\n301 Derby DamesEnchanted Mountain Roller DerbyFredericksburg Roller DerbyFree State Roller DerbySouthern Delaware Roller Derby\n\nExpect to see hard hits\, fancy footwork\, and fast-paced jams. Bring your best cheer squad cause skaters love the hype!\nThe tournament will be held at the Charles County Fairgrounds located at 8440 Fairgrounds Road\, La Plata\, MD. We’ve got bleacher seating\, but you’re welcome to bring a chair if you prefer. Tickets can be purchased by cash or card at the door. General admission tickets are just $15\, kids ages 5-12 are $5\, and littles are free!\nWe will have a couple of food vendors on site and plenty of merchandise on display for sale\, as well as raffles and giveaways. You don’t want to miss this fun filled day of roller derby! #WeWannaHearYouCheer
URL:https://charlescountyfair.com/event/301-roller-derby-tournament/
LOCATION:Charles County Fairgrounds\, 8440 Fairgrounds Road\, La Plata\, MD\, 20646\, United States
END:VEVENT
BEGIN:VEVENT
DTSTART;TZID=America/New_York:20240831T140000
DTEND;TZID=America/New_York:20240831T200000
DTSTAMP:20260420T044738
CREATED:20240408T165303Z
LAST-MODIFIED:20240408T165817Z
UID:1793-1725112800-1725134400@charlescountyfair.com
SUMMARY:The 2nd Annual Taste Of The City Wine Festival
DESCRIPTION:The 2nd Annaul Taste of the City Wine Festival is not just about wine and food\, but also about the soulful sounds of live music So\, come out and join us as we gear up and get ready for a tremedous crowd of wine\, food and music lovers patronizing this wonderful event This year we are delighted to have performing Grammy and Award winner Regina Belle to enhance the already huge crowd of attendee’s. We are asking you to partnership with us this year as a food\, wine or merchandise vendor and make great profits along with having a great time. Last year event we were pretty full of wine enthusiast from all over the DMV area and this year we are anticipating many more to come out to enjoy this great event so CHEERS to a memorable evening.
URL:https://charlescountyfair.com/event/the-2nd-annual-taste-of-the-city-wine-festival/
LOCATION:Charles County Fairgrounds\, 8440 Fairgrounds Road\, La Plata\, MD\, 20646\, United States
END:VEVENT
END:VCALENDAR